BEGIN:VCALENDAR
VERSION:2.0
PRODID:-//Buffalo Girlchoir - ECPv6.15.20//NONSGML v1.0//EN
CALSCALE:GREGORIAN
METHOD:PUBLISH
X-ORIGINAL-URL:https://buffalogirlchoir.org
X-WR-CALDESC:Events for Buffalo Girlchoir
REFRESH-INTERVAL;VALUE=DURATION:PT1H
X-Robots-Tag:noindex
X-PUBLISHED-TTL:PT1H
BEGIN:VTIMEZONE
TZID:America/New_York
BEGIN:DAYLIGHT
TZOFFSETFROM:-0500
TZOFFSETTO:-0400
TZNAME:EDT
DTSTART:20170312T070000
END:DAYLIGHT
BEGIN:STANDARD
TZOFFSETFROM:-0400
TZOFFSETTO:-0500
TZNAME:EST
DTSTART:20171105T060000
END:STANDARD
BEGIN:DAYLIGHT
TZOFFSETFROM:-0500
TZOFFSETTO:-0400
TZNAME:EDT
DTSTART:20180311T070000
END:DAYLIGHT
BEGIN:STANDARD
TZOFFSETFROM:-0400
TZOFFSETTO:-0500
TZNAME:EST
DTSTART:20181104T060000
END:STANDARD
BEGIN:DAYLIGHT
TZOFFSETFROM:-0500
TZOFFSETTO:-0400
TZNAME:EDT
DTSTART:20190310T070000
END:DAYLIGHT
BEGIN:STANDARD
TZOFFSETFROM:-0400
TZOFFSETTO:-0500
TZNAME:EST
DTSTART:20191103T060000
END:STANDARD
BEGIN:DAYLIGHT
TZOFFSETFROM:-0500
TZOFFSETTO:-0400
TZNAME:EDT
DTSTART:20200308T070000
END:DAYLIGHT
BEGIN:STANDARD
TZOFFSETFROM:-0400
TZOFFSETTO:-0500
TZNAME:EST
DTSTART:20201101T060000
END:STANDARD
END:VTIMEZONE
BEGIN:VEVENT
DTSTART;TZID=America/New_York:20190113T093000
DTEND;TZID=America/New_York:20190113T103000
DTSTAMP:20260424T184059
CREATED:20181106T075546Z
LAST-MODIFIED:20181106T225318Z
UID:1398-1547371800-1547375400@buffalogirlchoir.org
SUMMARY:Winter Concert
DESCRIPTION:Join the Buffalo Girlchoir as we sing in the new year with Snow on a Moonlit Night. Stay tuned for location and more details. \nThis event is free\, however donations are gladly welcomed. Thank you for your support!
URL:https://buffalogirlchoir.org/event/winter-concert/
LOCATION:Elmwood Franklin School\, 104 New Amsterdam Ave.\, Buffalo\, NY
CATEGORIES:Music
ATTACH;FMTTYPE=image/jpeg:https://buffalogirlchoir.org/wp-content/uploads/2018/11/Event-witer-concert-2.jpg
END:VEVENT
BEGIN:VEVENT
DTSTART;TZID=America/New_York:20181206T143000
DTEND;TZID=America/New_York:20181206T153000
DTSTAMP:20260424T184059
CREATED:20181106T075120Z
LAST-MODIFIED:20181106T075120Z
UID:1394-1544106600-1544110200@buffalogirlchoir.org
SUMMARY:Buffalo State Winter Choral Spectacular
DESCRIPTION:The Buffalo Girlchoir will be making a special guest appearance at the Buffalo State Winter Choral Spectacular concert. \nClick here to purchase tickets. You will be redirected to the Performing Arts Center website.
URL:https://buffalogirlchoir.org/event/buffalo-state-winter-choral-spectacular/
LOCATION:Rockwell Hall\, 1300 Elmwood Ave.\, Buffalo\, NY\, 14222
CATEGORIES:Music
ATTACH;FMTTYPE=image/jpeg:https://buffalogirlchoir.org/wp-content/uploads/2018/11/rockwell-event.jpg
END:VEVENT
BEGIN:VEVENT
DTSTART;TZID=America/New_York:20181108T140000
DTEND;TZID=America/New_York:20181108T150000
DTSTAMP:20260424T184059
CREATED:20181106T073043Z
LAST-MODIFIED:20181106T223516Z
UID:1390-1541685600-1541689200@buffalogirlchoir.org
SUMMARY:Women's Choir Inaugural Concert
DESCRIPTION:Women’s Choir of Buffalo: Experience a New Palette\nWomen’s Choir is an extension of the mission of Buffalo Girlchoir. Professional singers mentor talented and motivated high school and college young women singing side by side with them through out the rehearsal process. Hear us sing together in our inaugural concert! \nThis event is free\, however donations are gladly welcomed. Thank you for your support!
URL:https://buffalogirlchoir.org/event/womens-choir-inaugural-concert/
LOCATION:Unitarian Universalist Church of Buffalo\, 695 Elmwood Ave.\, Buffalo\, NY\, 14222
CATEGORIES:Music
ATTACH;FMTTYPE=image/jpeg:https://buffalogirlchoir.org/wp-content/uploads/2018/11/womens-choir-event.jpg
END:VEVENT
END:VCALENDAR