BEGIN:VCALENDAR
VERSION:2.0
PRODID:-//Buffalo Girlchoir - ECPv6.15.20//NONSGML v1.0//EN
CALSCALE:GREGORIAN
METHOD:PUBLISH
X-ORIGINAL-URL:https://buffalogirlchoir.org
X-WR-CALDESC:Events for Buffalo Girlchoir
REFRESH-INTERVAL;VALUE=DURATION:PT1H
X-Robots-Tag:noindex
X-PUBLISHED-TTL:PT1H
BEGIN:VTIMEZONE
TZID:America/New_York
BEGIN:DAYLIGHT
TZOFFSETFROM:-0500
TZOFFSETTO:-0400
TZNAME:EDT
DTSTART:20180311T070000
END:DAYLIGHT
BEGIN:STANDARD
TZOFFSETFROM:-0400
TZOFFSETTO:-0500
TZNAME:EST
DTSTART:20181104T060000
END:STANDARD
BEGIN:DAYLIGHT
TZOFFSETFROM:-0500
TZOFFSETTO:-0400
TZNAME:EDT
DTSTART:20190310T070000
END:DAYLIGHT
BEGIN:STANDARD
TZOFFSETFROM:-0400
TZOFFSETTO:-0500
TZNAME:EST
DTSTART:20191103T060000
END:STANDARD
BEGIN:DAYLIGHT
TZOFFSETFROM:-0500
TZOFFSETTO:-0400
TZNAME:EDT
DTSTART:20200308T070000
END:DAYLIGHT
BEGIN:STANDARD
TZOFFSETFROM:-0400
TZOFFSETTO:-0500
TZNAME:EST
DTSTART:20201101T060000
END:STANDARD
BEGIN:DAYLIGHT
TZOFFSETFROM:-0500
TZOFFSETTO:-0400
TZNAME:EDT
DTSTART:20210314T070000
END:DAYLIGHT
BEGIN:STANDARD
TZOFFSETFROM:-0400
TZOFFSETTO:-0500
TZNAME:EST
DTSTART:20211107T060000
END:STANDARD
BEGIN:DAYLIGHT
TZOFFSETFROM:-0500
TZOFFSETTO:-0400
TZNAME:EDT
DTSTART:20220313T070000
END:DAYLIGHT
BEGIN:STANDARD
TZOFFSETFROM:-0400
TZOFFSETTO:-0500
TZNAME:EST
DTSTART:20221106T060000
END:STANDARD
BEGIN:DAYLIGHT
TZOFFSETFROM:-0500
TZOFFSETTO:-0400
TZNAME:EDT
DTSTART:20230312T070000
END:DAYLIGHT
BEGIN:STANDARD
TZOFFSETFROM:-0400
TZOFFSETTO:-0500
TZNAME:EST
DTSTART:20231105T060000
END:STANDARD
BEGIN:DAYLIGHT
TZOFFSETFROM:-0500
TZOFFSETTO:-0400
TZNAME:EDT
DTSTART:20240310T070000
END:DAYLIGHT
BEGIN:STANDARD
TZOFFSETFROM:-0400
TZOFFSETTO:-0500
TZNAME:EST
DTSTART:20241103T060000
END:STANDARD
BEGIN:DAYLIGHT
TZOFFSETFROM:-0500
TZOFFSETTO:-0400
TZNAME:EDT
DTSTART:20250309T070000
END:DAYLIGHT
BEGIN:STANDARD
TZOFFSETFROM:-0400
TZOFFSETTO:-0500
TZNAME:EST
DTSTART:20251102T060000
END:STANDARD
END:VTIMEZONE
BEGIN:VEVENT
DTSTART;TZID=America/New_York:20240405T103000
DTEND;TZID=America/New_York:20240405T103000
DTSTAMP:20260424T143548
CREATED:20240312T181342Z
LAST-MODIFIED:20240312T181342Z
UID:2205-1712313000-1712313000@buffalogirlchoir.org
SUMMARY:Beyond the Planets
DESCRIPTION:Giocoso and the Women’s choir sing Beyond The Planets with the BPO. \nFor more information or to purchase tickets\, please visit their website:\nhttps://bpo.org/event/beyond-the-planets/2024-04-05/
URL:https://buffalogirlchoir.org/event/beyond-the-planets/
LOCATION:Kleinhans Music Hall\, 3 Symphony Circle\, Buffalo\, NY
CATEGORIES:Music
ATTACH;FMTTYPE=image/jpeg:https://buffalogirlchoir.org/wp-content/uploads/2024/03/Event-Beyond-the-Planets.jpg
END:VEVENT
BEGIN:VEVENT
DTSTART;TZID=America/New_York:20240227T170000
DTEND;TZID=America/New_York:20240227T190000
DTSTAMP:20260424T143548
CREATED:20240123T192201Z
LAST-MODIFIED:20240205T221230Z
UID:2164-1709053200-1709060400@buffalogirlchoir.org
SUMMARY:Annual Spaghetti Dinner
DESCRIPTION:Come Hungry! Buffalo Girlchoir is hosting our Annual Spaghetti Dinner on February 27 from 5:00pm to 7:00pm. \nAges 0-5 Free \nAges 6-up $15 \nPlease joint us at the Unitarian Universalist Church Parish Hall\, 695 Elmwood Avenue. Thank you for your support! \nTickets can be purchased by clicking this PayPal button.
URL:https://buffalogirlchoir.org/event/annual-spaghetti-dinner/
LOCATION:Unitarian Universalist Church of Buffalo\, 695 Elmwood Ave.\, Buffalo\, NY\, 14222
CATEGORIES:Music
ATTACH;FMTTYPE=image/jpeg:https://buffalogirlchoir.org/wp-content/uploads/2024/01/Event-Spaghetti-Dinner-2.jpg
END:VEVENT
BEGIN:VEVENT
DTSTART;TZID=America/New_York:20240202T180000
DTEND;TZID=America/New_York:20240202T200000
DTSTAMP:20260424T143548
CREATED:20240123T191812Z
LAST-MODIFIED:20240131T142658Z
UID:2160-1706896800-1706904000@buffalogirlchoir.org
SUMMARY:Album Release Party
DESCRIPTION:Buffalo Girlchoir is releasing their first full-length album titled Sing a Song of Childhood! The album – featuring children’s folk songs and lullabies from around the world – will be available on all major streaming services. \nOn February 2\, from 6pm to 8pm\, we will be hosting an album release party at our rehearsal studios located at 255 Great Arrow Avenue\, suites 310/312. This event will feature a performance by our singers at 7:00 pm. \nLight refreshments will be served at this FREE open house style event which is open to the public. RSVP to director@buffalogirlchoir.org \nIn advance of the album release\, Buffalo Girlchoir released two singles*: “I Wonder Why” and “This Little Light of Mine”. \n*These recordings were produced to complement original picture books created and published by the singers.
URL:https://buffalogirlchoir.org/event/album-release-party/
LOCATION:Pierce Arrow Complex\, 255 Great Arrow Avenue\, Ste. 312\, Buffalo\, NY\, 14207\, United States
CATEGORIES:Music
ATTACH;FMTTYPE=image/jpeg:https://buffalogirlchoir.org/wp-content/uploads/2024/01/Event-Sing-A-Song.jpg
END:VEVENT
BEGIN:VEVENT
DTSTART;TZID=America/New_York:20231210T083000
DTEND;TZID=America/New_York:20231210T103000
DTSTAMP:20260424T143548
CREATED:20231109T014032Z
LAST-MODIFIED:20231109T021236Z
UID:2130-1702197000-1702204200@buffalogirlchoir.org
SUMMARY:Jingle Bell Jam
DESCRIPTION:Join us for pre-concert caroling at the Jingle Bell Jam! \nA family tradition of festive frivolity including a seasonal souvenir for kids! Santa helps conduct and leads the holiday sing-along. \nBuffalo Girlchoir begins our performance at 1:30 on the main stage. Hope to see you there! \nTickets can be purchased through the Buffalo Philharmonic Orchestra.
URL:https://buffalogirlchoir.org/event/jingle-bell-jam/
LOCATION:Kleinhans Music Hall\, 3 Symphony Circle\, Buffalo\, NY
CATEGORIES:Music
ATTACH;FMTTYPE=image/jpeg:https://buffalogirlchoir.org/wp-content/uploads/2023/11/Event-Jingle-Bell-Jam.jpg
END:VEVENT
BEGIN:VEVENT
DTSTART;TZID=America/New_York:20231209T090000
DTEND;TZID=America/New_York:20231209T110000
DTSTAMP:20260424T143548
CREATED:20231109T014619Z
LAST-MODIFIED:20231109T021158Z
UID:2135-1702112400-1702119600@buffalogirlchoir.org
SUMMARY:Caroling at Alice Ever After Books
DESCRIPTION:Buffalo Girlchoir will be singing holiday favorites. \nCome\, listen\, and shop for the holidays at Alice Ever After Books!
URL:https://buffalogirlchoir.org/event/caroling-at-alice-ever-after-books/
LOCATION:Alice Ever After Books\, 295 Parkside Ave.\, Buffalo\, NY\, 14214\, United States
CATEGORIES:Music
ATTACH;FMTTYPE=image/jpeg:https://buffalogirlchoir.org/wp-content/uploads/2023/11/Event-Alice-Books.jpg
END:VEVENT
BEGIN:VEVENT
DTSTART;TZID=America/New_York:20231203T080000
DTEND;TZID=America/New_York:20231203T100000
DTSTAMP:20260424T143548
CREATED:20231109T013358Z
LAST-MODIFIED:20231109T021040Z
UID:2128-1701590400-1701597600@buffalogirlchoir.org
SUMMARY:The Nutcracker
DESCRIPTION:The Buffalo Girlchoir will be singing the part of the Snow Chorus in The Nutcracker. \nYou won’t want to miss this iconic holiday performance by Neglia Ballet Artists! \nTickets can be purchased through Shea’s Performing Art Center.
URL:https://buffalogirlchoir.org/event/the-nutcracker-2/
LOCATION:Shea’s\, 650 Main Street\, Buffalo\, NY\, 14202\, United States
CATEGORIES:Music
ATTACH;FMTTYPE=image/jpeg:https://buffalogirlchoir.org/wp-content/uploads/2023/11/Event-Nutcracker-2023.jpg
END:VEVENT
BEGIN:VEVENT
DTSTART;TZID=America/New_York:20231202T140000
DTEND;TZID=America/New_York:20231202T160000
DTSTAMP:20260424T143548
CREATED:20231109T013204Z
LAST-MODIFIED:20231109T021003Z
UID:2125-1701525600-1701532800@buffalogirlchoir.org
SUMMARY:The Nutcracker
DESCRIPTION:The Buffalo Girlchoir will be singing the part of the Snow Chorus in The Nutcracker. \nYou won’t want to miss this iconic holiday performance by Neglia Ballet Artists! \nTickets can be purchased through Shea’s Performing Art Center.
URL:https://buffalogirlchoir.org/event/the-nutcracker/
LOCATION:Shea’s\, 650 Main Street\, Buffalo\, NY\, 14202\, United States
CATEGORIES:Music
ATTACH;FMTTYPE=image/jpeg:https://buffalogirlchoir.org/wp-content/uploads/2023/11/Event-Nutcracker-2023.jpg
END:VEVENT
BEGIN:VEVENT
DTSTART;TZID=America/New_York:20231202T110000
DTEND;TZID=America/New_York:20231202T130000
DTSTAMP:20260424T143548
CREATED:20231109T012705Z
LAST-MODIFIED:20231109T020921Z
UID:2122-1701514800-1701522000@buffalogirlchoir.org
SUMMARY:Caroling at Darwin Martin House Tree of Light
DESCRIPTION:Listen to the songs of the holiday while we celebrate the season of warmth\, community\, and light at the annual Tree of Light event. \nThe free\, family-friendly event features: \n\nHoliday crafts and treats\nFestive holiday tunes\nWalk-throughs of the Martin House\nPLUS! Shop the Martin House Holiday Market from 3-6pm.\n12 local vendors will be located in the Visitor Center just in time for holiday shopping!\n\nLearn more about this event.
URL:https://buffalogirlchoir.org/event/caroling-at-darwin-martin-house-tree-of-light/
LOCATION:Martin House\, 125 Jewett Parkway\, Buffalo\, 14214\, United States
CATEGORIES:Music
ATTACH;FMTTYPE=image/jpeg:https://buffalogirlchoir.org/wp-content/uploads/2023/11/Event-Tree-of-Light.jpg
END:VEVENT
BEGIN:VEVENT
DTSTART;TZID=America/New_York:20231121T140000
DTEND;TZID=America/New_York:20231121T150000
DTSTAMP:20260424T143548
CREATED:20231109T012136Z
LAST-MODIFIED:20231109T020707Z
UID:2118-1700575200-1700578800@buffalogirlchoir.org
SUMMARY:One With The Earth
DESCRIPTION:Join us for our Fall concert and welcome to our 2023-24 season! \nBuffalo Girlchoir will be performing “One With the Earth” at the Unitarian Universalist Church of Buffalo.
URL:https://buffalogirlchoir.org/event/one-with-the-earth/
LOCATION:Unitarian Universalist Church of Buffalo\, 695 Elmwood Ave.\, Buffalo\, NY\, 14222
CATEGORIES:Music
ATTACH;FMTTYPE=image/jpeg:https://buffalogirlchoir.org/wp-content/uploads/2023/11/Event-One-with-Earth.jpg
END:VEVENT
BEGIN:VEVENT
DTSTART;TZID=America/New_York:20230627T143000
DTEND;TZID=America/New_York:20230627T153000
DTSTAMP:20260424T143548
CREATED:20230414T204629Z
LAST-MODIFIED:20230602T215626Z
UID:2034-1687876200-1687879800@buffalogirlchoir.org
SUMMARY:Shakespeare in the Park Performance
DESCRIPTION:Join us at Shakespeare in Delaware Park on June 27\nIn addition to taking in Shakespeare in Delaware Park’s production of “Measure for Measure”\, there will be a pre-show concert by Buffalo Girlchoir. Join us on Shakespeare Hill for a pre-show concert at 6:45. “Measure for Measure” will follow our performance at 7:30. \nFree and open to the public. \nAs a fundraiser for Girlchoir\, premium seating is available on the platform and will include a champagne toast between the concert and the show as well as a charcuterie box. Donation of $25 for those under 21 and $35 for adults. Click here to purchase tickets. \nPlatform generously sponsored by Roberts Law.\nCharcuterie generously sponsored by the Wurst Family.\nChampagne and cookies generously sponsored by the Bassett Family.
URL:https://buffalogirlchoir.org/event/shakespeare-in-the-park-performance/
LOCATION:Delaware Park
CATEGORIES:Music
ATTACH;FMTTYPE=image/jpeg:https://buffalogirlchoir.org/wp-content/uploads/2023/04/Event-Shakespeare-2023.jpg
END:VEVENT
BEGIN:VEVENT
DTSTART;TZID=America/New_York:20230521T110000
DTEND;TZID=America/New_York:20230521T120000
DTSTAMP:20260424T143548
CREATED:20230414T203913Z
LAST-MODIFIED:20230414T205247Z
UID:2030-1684666800-1684670400@buffalogirlchoir.org
SUMMARY:2023 Spring Concert: Sing the Change
DESCRIPTION:Join us for our Spring concert\, Sing the Change at the historic Buffalo Museum of Science! \nThis performance is generously sponsored by the Sportsmen’s Americana Music Foundation. \nFree and Open to the Public.
URL:https://buffalogirlchoir.org/event/2023-spring-concert-sing-the-change/
LOCATION:Buffalo Museum of Science\, 1020 Humboldt Parkway\, Buffalo\, NY\, 14211\, United States
CATEGORIES:Music
ATTACH;FMTTYPE=image/jpeg:https://buffalogirlchoir.org/wp-content/uploads/2023/04/Sing-The-Change-Spring-2023-2.jpg
END:VEVENT
BEGIN:VEVENT
DTSTART;TZID=America/New_York:20230516T150000
DTEND;TZID=America/New_York:20230516T153000
DTSTAMP:20260424T143548
CREATED:20230419T191536Z
LAST-MODIFIED:20230419T192204Z
UID:2041-1684249200-1684251000@buffalogirlchoir.org
SUMMARY:Preview Concert
DESCRIPTION:Join us as we warm up for our season at the Buffalo Public Library’s Merriweather Branch! \nWe are collecting diapers and period supplies for the library’s community pantry – please contribute as you are able. \nFree and open to the public. Hope to see you there!
URL:https://buffalogirlchoir.org/event/preview-concert/
LOCATION:Frank E. Merriweather\, Jr. Branch Library\, 1324 Jefferson Avenue\, Buffalo\, NY\, 14208\, United States
CATEGORIES:Music
ATTACH;FMTTYPE=image/jpeg:https://buffalogirlchoir.org/wp-content/uploads/2023/04/Preview-Concert-2023.jpg
END:VEVENT
BEGIN:VEVENT
DTSTART;TZID=America/New_York:20221204T080000
DTEND;TZID=America/New_York:20221204T100000
DTSTAMP:20260424T143548
CREATED:20221005T194354Z
LAST-MODIFIED:20221005T194354Z
UID:1949-1670140800-1670148000@buffalogirlchoir.org
SUMMARY:Nutcracker: Snow Chorus as part of Neglia Ballet with the BPO
DESCRIPTION:Join us as we accompany Neglia Ballet in the Nutcracker! \nDecember 3: 7:00 PM \nDecember 4: 1:00 PM \n  \nFor more info visit: https://www.sheas.org/performances/nutcracker/
URL:https://buffalogirlchoir.org/event/nutcracker-snow-chorus-as-part-of-neglia-ballet-with-the-bpo-2/
LOCATION:Shea’s\, 650 Main Street\, Buffalo\, NY\, 14202\, United States
CATEGORIES:Music
ATTACH;FMTTYPE=image/jpeg:https://buffalogirlchoir.org/wp-content/uploads/2022/10/Event-Nutcracker.jpg
END:VEVENT
BEGIN:VEVENT
DTSTART;TZID=America/New_York:20221203T140000
DTEND;TZID=America/New_York:20221203T160000
DTSTAMP:20260424T143548
CREATED:20221005T194127Z
LAST-MODIFIED:20221005T194127Z
UID:1943-1670076000-1670083200@buffalogirlchoir.org
SUMMARY:Nutcracker: Snow Chorus as part of Neglia Ballet with the BPO
DESCRIPTION:Join us as we accompany Neglia Ballet in the Nutcracker! \nDecember 3: 7:00 PM \nDecember 4: 1:00 PM \n  \nFor more info visit: https://www.sheas.org/performances/nutcracker/ \n 
URL:https://buffalogirlchoir.org/event/nutcracker-snow-chorus-as-part-of-neglia-ballet-with-the-bpo/
LOCATION:Shea’s\, 650 Main Street\, Buffalo\, NY\, 14202\, United States
CATEGORIES:Music
ATTACH;FMTTYPE=image/jpeg:https://buffalogirlchoir.org/wp-content/uploads/2022/10/Event-Nutcracker.jpg
END:VEVENT
BEGIN:VEVENT
DTSTART;TZID=America/New_York:20221203T110000
DTEND;TZID=America/New_York:20221203T130000
DTSTAMP:20260424T143548
CREATED:20221005T194638Z
LAST-MODIFIED:20221005T194638Z
UID:1951-1670065200-1670072400@buffalogirlchoir.org
SUMMARY:Caroling at the Darwin Martin House
DESCRIPTION:
URL:https://buffalogirlchoir.org/event/caroling-at-the-darwin-martin-house/
LOCATION:Martin House\, 125 Jewett Parkway\, Buffalo\, 14214\, United States
CATEGORIES:Music
ATTACH;FMTTYPE=image/jpeg:https://buffalogirlchoir.org/wp-content/uploads/2022/10/Event-Martin-House.jpg
END:VEVENT
BEGIN:VEVENT
DTSTART;TZID=America/New_York:20221122T140000
DTEND;TZID=America/New_York:20221122T153000
DTSTAMP:20260424T143548
CREATED:20221005T193458Z
LAST-MODIFIED:20221005T193458Z
UID:1938-1669125600-1669131000@buffalogirlchoir.org
SUMMARY:2022 Fall Concert: Sing the Change
DESCRIPTION:
URL:https://buffalogirlchoir.org/event/2022-fall-concert-sing-the-change/
LOCATION:Tacoma Performing Arts Center\, 351 Tacoma Avenue\, Buffalo\, NY\, 14216\, United States
CATEGORIES:Music
ATTACH;FMTTYPE=image/jpeg:https://buffalogirlchoir.org/wp-content/uploads/2022/10/Event-Sing-the-Change.jpg
END:VEVENT
BEGIN:VEVENT
DTSTART;TZID=America/New_York:20220628T143000
DTEND;TZID=America/New_York:20220628T180000
DTSTAMP:20260424T143548
CREATED:20220603T210010Z
LAST-MODIFIED:20220627T195416Z
UID:1892-1656426600-1656439200@buffalogirlchoir.org
SUMMARY:Shakespeare in Delaware Park - Sold Out
DESCRIPTION:Join us at Shakespeare in Delaware Park on June 28\nIn addition to taking in Shakespeare in Delaware Park’s production of “As You Like It”\, there will be a pre-show concert by Buffalo Girlchoir. Seating on the lawn is free and open to all – no ticket required. As a fundraiser for Girlchoir\, premium seating is available on the platform and will include a champagne toast between the concert and the show as well as a charcuterie box and other treats. \nThis event is SOLD OUT. Thank you for your support! \nUnder 21 – $25\n21 and over $35 \n\n \n\n\n\nPricing\n\n\nUnder 21 $25.00 USD21 and over $35.00 USD
URL:https://buffalogirlchoir.org/event/shakespeare-in-delaware-park/
LOCATION:Delaware Park
CATEGORIES:Music
ATTACH;FMTTYPE=image/jpeg:https://buffalogirlchoir.org/wp-content/uploads/2022/06/Event-Shakespeare-SoldOut.jpg
END:VEVENT
BEGIN:VEVENT
DTSTART;TZID=America/New_York:20220522T110000
DTEND;TZID=America/New_York:20220522T130000
DTSTAMP:20260424T143548
CREATED:20220413T205129Z
LAST-MODIFIED:20220413T210119Z
UID:1873-1653217200-1653224400@buffalogirlchoir.org
SUMMARY:The Ballerina and the Clown
DESCRIPTION:May 22\, 3:00 PM\, Central branch of the BECPL 1 Lafayette Square. \nFeaturing Libby Larsen’s: The Ballerina and the Clown with Madeline Olson\, harp. \nSpecial preview performance: May 18 at 7:00 – Frank L. Merriweather branch of the BECPL 1324 Jefferson Avenue. \n  \nWebster Szanyi LLP is proud to sponsor these performances of The Ballerina and the Clown presented by Buffalo Girlchoir.
URL:https://buffalogirlchoir.org/event/the-ballerina-and-the-clown/
LOCATION:Buffalo and Erie County Public Library\, Central Library\, 1 Lafayette Square\, Buffalo
CATEGORIES:Music
ATTACH;FMTTYPE=image/jpeg:https://buffalogirlchoir.org/wp-content/uploads/2022/04/Event-Ballerina-Clown-2.jpg
END:VEVENT
BEGIN:VEVENT
DTSTART;TZID=America/New_York:20211114T100000
DTEND;TZID=America/New_York:20211114T110000
DTSTAMP:20260424T143548
CREATED:20211102T001443Z
LAST-MODIFIED:20211102T011932Z
UID:1778-1636884000-1636887600@buffalogirlchoir.org
SUMMARY:Rise Up Singing
DESCRIPTION:Join us as we triumphantly return to in person concerts!  \nWe will present the world premiere of “Our Eyes Are Upon You” by Caroline Mallonee. This program is made possible with funds from the Statewide Community Regrant program\, a regrant program of the New York State Council on the Arts with the support of the Office of the Governor and the New York State Legislature and administered by Arts Services\, Inc. All audience members must wear a mask for entry and for the duration of the performance. \nFree admission – donations gratefully accepted. \n \nNovember 14\, 2021\, 3:00PM\nMontante Cultural Center\n2001 Main Street\, Buffalo\, NY
URL:https://buffalogirlchoir.org/event/rise-up-singing/
CATEGORIES:Music
ATTACH;FMTTYPE=image/jpeg:https://buffalogirlchoir.org/wp-content/uploads/2021/11/Rise-Up-Singing-Event-2.jpg
END:VEVENT
BEGIN:VEVENT
DTSTART;VALUE=DATE:20201007
DTEND;VALUE=DATE:20200515
DTSTAMP:20260424T143548
CREATED:20191008T021434Z
LAST-MODIFIED:20200515T000602Z
UID:1672-1602100800-1589486399@buffalogirlchoir.org
SUMMARY:Spring Concert CANCELLED. Stay tuned for future event updates.
DESCRIPTION:This event has been cancelled due to Covid-19 restrictions. Please stay tuned for future updates. Be well!
URL:https://buffalogirlchoir.org/event/spring-concert-featuring-all-ensembles-of-buffalo-girlchoir/
CATEGORIES:Music
ATTACH;FMTTYPE=image/jpeg:https://buffalogirlchoir.org/wp-content/uploads/2019/10/spring-714x500.jpg
END:VEVENT
BEGIN:VEVENT
DTSTART;TZID=America/New_York:20200302T120000
DTEND;TZID=America/New_York:20200302T140000
DTSTAMP:20260424T143548
CREATED:20190320T044955Z
LAST-MODIFIED:20200217T214550Z
UID:1621-1583150400-1583157600@buffalogirlchoir.org
SUMMARY:Spaghetti Dinner/Basket Raffle Fundraiser
DESCRIPTION:Spaghetti Dinner/Basket Raffle Fundraiser\nMarch 2\, 5:00-7:00\n$10 (5 and under free)*\nTake out available.\n\nPolish Cadets Hall\n927 Grant Street\n\nBeer & Wine Drink Tickets $5 each at the door.\n\nRaffle Basket Tickets $5 for 20.\n\n* To Purchase Tickets: Click on the “Donate” button and notate in the memo line how many tickets you are purchasing. Thank you!
URL:https://buffalogirlchoir.org/event/spaghetti-dinner/
LOCATION:Polish Cadets Hall\, 927 Grant Street\, Buffalo\, NY
CATEGORIES:Community
ATTACH;FMTTYPE=image/jpeg:https://buffalogirlchoir.org/wp-content/uploads/2019/03/Spaghetti-dinner-event.jpg
END:VEVENT
BEGIN:VEVENT
DTSTART;TZID=America/New_York:20200127T123000
DTEND;TZID=America/New_York:20200127T150000
DTSTAMP:20260424T143548
CREATED:20190830T051341Z
LAST-MODIFIED:20200108T211440Z
UID:1633-1580128200-1580137200@buffalogirlchoir.org
SUMMARY:Open Rehearsal
DESCRIPTION:Open Rehearsal\nJanuary 27\, 2020\nBring your beautiful voices! \n5:30 -8:00
URL:https://buffalogirlchoir.org/event/first-rehearsal-open-rehearsal/
LOCATION:New Location\, 255 Great Arrow Avenue\, Buffalo
CATEGORIES:Music
ATTACH;FMTTYPE=image/jpeg:https://buffalogirlchoir.org/wp-content/uploads/2019/08/event-first-rehearsal.jpg
END:VEVENT
BEGIN:VEVENT
DTSTART;TZID=America/New_York:20200119T093000
DTEND;TZID=America/New_York:20200119T093000
DTSTAMP:20260424T143548
CREATED:20191008T022243Z
LAST-MODIFIED:20191008T024851Z
UID:1684-1579426200-1579426200@buffalogirlchoir.org
SUMMARY:A Midsummer Night's Dream: Women's Choir with Irish Classical Theater and Buffalo Philharmonic Orchestra
DESCRIPTION:The Buffalo Philharmonic Orchestra and the Irish Classical Theatre present a very special collaborative production of Shakespeare’s warmhearted comedy with Felix Mendelssohn’s brilliant score. \nVisit bpo.org for tickets.
URL:https://buffalogirlchoir.org/event/a-midsummer-nights-dream-womens-choir-with-irish-classical-theater-and-buffalo-philharmonic-orchestra-3/
LOCATION:Kleinhans Music Hall\, 3 Symphony Circle\, Buffalo\, NY
CATEGORIES:Music
ATTACH;FMTTYPE=image/jpeg:https://buffalogirlchoir.org/wp-content/uploads/2019/10/Midsummer-714x500.jpg
END:VEVENT
BEGIN:VEVENT
DTSTART;TZID=America/New_York:20200118T150000
DTEND;TZID=America/New_York:20200118T150000
DTSTAMP:20260424T143548
CREATED:20191008T022153Z
LAST-MODIFIED:20191008T024822Z
UID:1682-1579359600-1579359600@buffalogirlchoir.org
SUMMARY:A Midsummer Night's Dream: Women's Choir with Irish Classical Theater and Buffalo Philharmonic Orchestra
DESCRIPTION:The Buffalo Philharmonic Orchestra and the Irish Classical Theatre present a very special collaborative production of Shakespeare’s warmhearted comedy with Felix Mendelssohn’s brilliant score. \nVisit bpo.org for tickets.
URL:https://buffalogirlchoir.org/event/a-midsummer-nights-dream-womens-choir-with-irish-classical-theater-and-buffalo-philharmonic-orchestra-2/
LOCATION:Kleinhans Music Hall\, 3 Symphony Circle\, Buffalo\, NY
CATEGORIES:Music
ATTACH;FMTTYPE=image/jpeg:https://buffalogirlchoir.org/wp-content/uploads/2019/10/Midsummer-714x500.jpg
END:VEVENT
BEGIN:VEVENT
DTSTART;TZID=America/New_York:20200117T150000
DTEND;TZID=America/New_York:20200117T150000
DTSTAMP:20260424T143548
CREATED:20191008T022055Z
LAST-MODIFIED:20191008T024923Z
UID:1679-1579273200-1579273200@buffalogirlchoir.org
SUMMARY:A Midsummer Night's Dream: Women's Choir with Irish Classical Theater and Buffalo Philharmonic Orchestra
DESCRIPTION:The Buffalo Philharmonic Orchestra and the Irish Classical Theatre present a very special collaborative production of Shakespeare’s warmhearted comedy with Felix Mendelssohn’s brilliant score. \nVisit bpo.org for tickets.
URL:https://buffalogirlchoir.org/event/a-midsummer-nights-dream-womens-choir-with-irish-classical-theater-and-buffalo-philharmonic-orchestra/
LOCATION:Kleinhans Music Hall\, 3 Symphony Circle\, Buffalo\, NY
CATEGORIES:Music
ATTACH;FMTTYPE=image/jpeg:https://buffalogirlchoir.org/wp-content/uploads/2019/10/Midsummer-714x500.jpg
END:VEVENT
BEGIN:VEVENT
DTSTART;TZID=America/New_York:20200112T093000
DTEND;TZID=America/New_York:20200112T093000
DTSTAMP:20260424T143548
CREATED:20191008T021124Z
LAST-MODIFIED:20200108T211133Z
UID:1667-1578821400-1578821400@buffalogirlchoir.org
SUMMARY:Girlchoir Winter Concert
DESCRIPTION:Free and open to the public. Donations accepted.\nSponsored in part by Greater Buffalo Friends of Music.
URL:https://buffalogirlchoir.org/event/girlchoir-winter-concert/
LOCATION:Kleinhans Music Hall\, 3 Symphony Circle\, Buffalo\, NY
CATEGORIES:Music
ATTACH;FMTTYPE=image/jpeg:https://buffalogirlchoir.org/wp-content/uploads/2019/10/Winter-concert-new-714x500-1.jpg
END:VEVENT
BEGIN:VEVENT
DTSTART;TZID=America/New_York:20191208T100000
DTEND;TZID=America/New_York:20191208T100000
DTSTAMP:20260424T143548
CREATED:20191008T021644Z
LAST-MODIFIED:20191008T024645Z
UID:1675-1575799200-1575799200@buffalogirlchoir.org
SUMMARY:Classical Christmas with the Cheektowaga Community Symphony Orchestra
DESCRIPTION:Buffalo Girlchoir and Women’s Choir of Buffalo
URL:https://buffalogirlchoir.org/event/classical-christmas-with-the-cheektowaga-community-symphony-orchestra/
LOCATION:St. John Gualbert’s RC Church\, 83 Gualbert Avenue\, Cheektowaga\, NY
CATEGORIES:Music
ATTACH;FMTTYPE=image/jpeg:https://buffalogirlchoir.org/wp-content/uploads/2019/10/Christmast-714x500.jpg
END:VEVENT
BEGIN:VEVENT
DTSTART;TZID=America/New_York:20191114T140000
DTEND;TZID=America/New_York:20191114T140000
DTSTAMP:20260424T143548
CREATED:20191008T020737Z
LAST-MODIFIED:20191008T024549Z
UID:1663-1573740000-1573740000@buffalogirlchoir.org
SUMMARY:Women's Choir Concert
DESCRIPTION:Donations Accepted.
URL:https://buffalogirlchoir.org/event/womens-choir-concert/
LOCATION:Buffalo History Museum\, One Museum Court\, Buffalo\, NY
CATEGORIES:Music
ATTACH;FMTTYPE=image/jpeg:https://buffalogirlchoir.org/wp-content/uploads/2019/10/womens-choir-event.jpg
END:VEVENT
BEGIN:VEVENT
DTSTART;TZID=America/New_York:20190922T130000
DTEND;TZID=America/New_York:20190922T160000
DTSTAMP:20260424T143548
CREATED:20190830T052413Z
LAST-MODIFIED:20190830T052413Z
UID:1642-1569157200-1569168000@buffalogirlchoir.org
SUMMARY:Women's Choir Auditions #3
DESCRIPTION:Women’s Choir Auditions!\nFor those women who love song and sharing their voice\, please consider auditioning.\nEmail director@buffalogirlchoir.org for an appointment.\nSeptember 15: 5:00 – 7:00 pm\nSeptember 19: 6:30 – 8:00 pm\nSeptember 22: 5:00 – 8:00 pm
URL:https://buffalogirlchoir.org/event/womens-choir-auditions-3/
LOCATION:New Location\, 255 Great Arrow Avenue\, Buffalo
ATTACH;FMTTYPE=image/jpeg:https://buffalogirlchoir.org/wp-content/uploads/2019/08/event-women-auditions.jpg
END:VEVENT
BEGIN:VEVENT
DTSTART;TZID=America/New_York:20190919T143000
DTEND;TZID=America/New_York:20190919T160000
DTSTAMP:20260424T143548
CREATED:20190830T052317Z
LAST-MODIFIED:20190830T052431Z
UID:1640-1568903400-1568908800@buffalogirlchoir.org
SUMMARY:Women's Choir Auditions #2
DESCRIPTION:Women’s Choir Auditions!\nFor those women who love song and sharing their voice\, please consider auditioning.\nEmail director@buffalogirlchoir.org for an appointment.\nSeptember 15: 5:00 – 7:00 pm\nSeptember 19: 6:30 – 8:00 pm\nSeptember 22: 5:00 – 8:00 pm
URL:https://buffalogirlchoir.org/event/womens-choir-auditions-2/
LOCATION:New Location\, 255 Great Arrow Avenue\, Buffalo
ATTACH;FMTTYPE=image/jpeg:https://buffalogirlchoir.org/wp-content/uploads/2019/08/event-women-auditions.jpg
END:VEVENT
END:VCALENDAR