BEGIN:VCALENDAR
VERSION:2.0
PRODID:-//Buffalo Girlchoir - ECPv6.15.20//NONSGML v1.0//EN
CALSCALE:GREGORIAN
METHOD:PUBLISH
X-ORIGINAL-URL:https://buffalogirlchoir.org
X-WR-CALDESC:Events for Buffalo Girlchoir
REFRESH-INTERVAL;VALUE=DURATION:PT1H
X-Robots-Tag:noindex
X-PUBLISHED-TTL:PT1H
BEGIN:VTIMEZONE
TZID:America/New_York
BEGIN:DAYLIGHT
TZOFFSETFROM:-0500
TZOFFSETTO:-0400
TZNAME:EDT
DTSTART:20250309T070000
END:DAYLIGHT
BEGIN:STANDARD
TZOFFSETFROM:-0400
TZOFFSETTO:-0500
TZNAME:EST
DTSTART:20251102T060000
END:STANDARD
BEGIN:DAYLIGHT
TZOFFSETFROM:-0500
TZOFFSETTO:-0400
TZNAME:EDT
DTSTART:20260308T070000
END:DAYLIGHT
BEGIN:STANDARD
TZOFFSETFROM:-0400
TZOFFSETTO:-0500
TZNAME:EST
DTSTART:20261101T060000
END:STANDARD
BEGIN:DAYLIGHT
TZOFFSETFROM:-0500
TZOFFSETTO:-0400
TZNAME:EDT
DTSTART:20270314T070000
END:DAYLIGHT
BEGIN:STANDARD
TZOFFSETFROM:-0400
TZOFFSETTO:-0500
TZNAME:EST
DTSTART:20271107T060000
END:STANDARD
END:VTIMEZONE
BEGIN:VEVENT
DTSTART;TZID=America/New_York:20260517T130000
DTEND;TZID=America/New_York:20260517T150000
DTSTAMP:20260424T095759
CREATED:20260306T220156Z
LAST-MODIFIED:20260306T220156Z
UID:2463-1779022800-1779030000@buffalogirlchoir.org
SUMMARY:Spring Concert - We Are The Dreamers
DESCRIPTION:Buffalo Girlchoir performs our Spring concert at the one and only Babeville. Join us! \nThis concert is free and open to the public.
URL:https://buffalogirlchoir.org/event/spring-concert-we-are-the-dreamers/
LOCATION:Babeville\, 341 Delaware Ave.\, Buffalo\, NY
CATEGORIES:Music
ATTACH;FMTTYPE=image/jpeg:https://buffalogirlchoir.org/wp-content/uploads/2026/03/Event-spring-concert-26.jpg
END:VEVENT
BEGIN:VEVENT
DTSTART;TZID=America/New_York:20260530T193000
DTEND;TZID=America/New_York:20260530T213000
DTSTAMP:20260424T095759
CREATED:20260306T220613Z
LAST-MODIFIED:20260306T221658Z
UID:2466-1780169400-1780176600@buffalogirlchoir.org
SUMMARY:Buffalo Girlchoir Sings at BPO's Carmina Burana
DESCRIPTION:Buffalo Girlchoir will perform at Kleinhans Music Hall at the first of a trilogy of cantatas\, Orff’s Carmina Burana\, which draws from a 13th century compilation of medieval vagabond songs. \nGet all the details here. \nYou won’t want to miss this concert!
URL:https://buffalogirlchoir.org/event/buffalo-girlchoir-sings-at-bpos-carmina-burana/
LOCATION:Kleinhans Music Hall\, 3 Symphony Circle\, Buffalo\, NY
CATEGORIES:Music
ATTACH;FMTTYPE=image/jpeg:https://buffalogirlchoir.org/wp-content/uploads/2026/03/Event-carmina-burana-26.jpg
END:VEVENT
BEGIN:VEVENT
DTSTART;TZID=America/New_York:20260531T143000
DTEND;TZID=America/New_York:20260531T163000
DTSTAMP:20260424T095759
CREATED:20260306T220832Z
LAST-MODIFIED:20260306T221629Z
UID:2469-1780237800-1780245000@buffalogirlchoir.org
SUMMARY:Buffalo Girlchoir Sings at BPO's Carmina Burana
DESCRIPTION:Buffalo Girlchoir will perform at Kleinhans Music Hall at the first of a trilogy of cantatas\, Orff’s Carmina Burana\, which draws from a 13th century compilation of medieval vagabond songs. \nGet all the details here. \nYou won’t want to miss this concert!
URL:https://buffalogirlchoir.org/event/buffalo-girlchoir-sings-at-bpos-carmina-burana-2/
LOCATION:Kleinhans Music Hall\, 3 Symphony Circle\, Buffalo\, NY
CATEGORIES:Music
ATTACH;FMTTYPE=image/jpeg:https://buffalogirlchoir.org/wp-content/uploads/2026/03/Event-carmina-burana-26.jpg
END:VEVENT
BEGIN:VEVENT
DTSTART;TZID=America/New_York:20260727T090000
DTEND;TZID=America/New_York:20260727T160000
DTSTAMP:20260424T095759
CREATED:20260306T221234Z
LAST-MODIFIED:20260306T221446Z
UID:2471-1785142800-1785168000@buffalogirlchoir.org
SUMMARY:Summer Camp - Accidental Beauty
DESCRIPTION:Girls in this camp will participate each day in singing activities as well as engaging in more traditional camp activities such as fun crafts\, yoga\, walking field trips\, and more. The best part is the girls will also be making new friends! \nAges 6 – 12 | July 27 -31\, 2026 \nRegister and get all the details here.
URL:https://buffalogirlchoir.org/event/summer-camp-accidental-beauty/
LOCATION:Pierce Arrow Complex\, 255 Great Arrow Avenue\, Ste. 312\, Buffalo\, NY\, 14207\, United States
CATEGORIES:Music
ATTACH;FMTTYPE=image/jpeg:https://buffalogirlchoir.org/wp-content/uploads/2026/03/Event-summer-camp-26.jpg
END:VEVENT
END:VCALENDAR